BEGIN:VCALENDAR
VERSION:2.0
PRODID:-// - ECPv6.15.20//NONSGML v1.0//EN
CALSCALE:GREGORIAN
METHOD:PUBLISH
X-ORIGINAL-URL:https://calendario.mediadoresdenavarra.com
X-WR-CALDESC:Eventos para 
REFRESH-INTERVAL;VALUE=DURATION:PT1H
X-Robots-Tag:noindex
X-PUBLISHED-TTL:PT1H
BEGIN:VTIMEZONE
TZID:Europe/Madrid
BEGIN:DAYLIGHT
TZOFFSETFROM:+0100
TZOFFSETTO:+0200
TZNAME:CEST
DTSTART:20250330T010000
END:DAYLIGHT
BEGIN:STANDARD
TZOFFSETFROM:+0200
TZOFFSETTO:+0100
TZNAME:CET
DTSTART:20251026T010000
END:STANDARD
BEGIN:DAYLIGHT
TZOFFSETFROM:+0100
TZOFFSETTO:+0200
TZNAME:CEST
DTSTART:20260329T010000
END:DAYLIGHT
BEGIN:STANDARD
TZOFFSETFROM:+0200
TZOFFSETTO:+0100
TZNAME:CET
DTSTART:20261025T010000
END:STANDARD
BEGIN:DAYLIGHT
TZOFFSETFROM:+0100
TZOFFSETTO:+0200
TZNAME:CEST
DTSTART:20270328T010000
END:DAYLIGHT
BEGIN:STANDARD
TZOFFSETFROM:+0200
TZOFFSETTO:+0100
TZNAME:CET
DTSTART:20271031T010000
END:STANDARD
END:VTIMEZONE
BEGIN:VEVENT
DTSTART;TZID=Europe/Madrid:20260505T093000
DTEND;TZID=Europe/Madrid:20260505T103000
DTSTAMP:20260420T104706
CREATED:20260407T100343Z
LAST-MODIFIED:20260407T100343Z
UID:159-1777973400-1777977000@calendario.mediadoresdenavarra.com
SUMMARY:Webinar La póliza de su vida
DESCRIPTION:La Escuela de Negocios de Seguros\, CECAS\, ofrece este webinar que combina habilidades y conocimientos para responder a las cuatro preguntas clave que te ayudarán a vender más seguros de Vida: ¿Por qué?\, ¿Qué?\, ¿A quién? y ¿Cómo? \nDirigido a mediadores con conocimientos básicos en seguros de Vida (riesgo)\, el programa se enfoca en estrategias prácticas para mejorar las ventas\, partiendo del dominio del producto y explorando las habilidades avanzadas necesarias para una comercialización efectiva. \n  \nFecha : 5 de mayo de 2026 \nCertificación : 1 hora lectiva\nHorario : 09:30 a 10:30\nPrecio : Gratuito colegiados.
URL:https://calendario.mediadoresdenavarra.com/evento/webinar-la-poliza-de-su-vida/
LOCATION:online\, Spain
END:VEVENT
BEGIN:VEVENT
DTSTART;TZID=Europe/Madrid:20260519T160000
DTEND;TZID=Europe/Madrid:20260521T173000
DTSTAMP:20260420T104706
CREATED:20260415T092327Z
LAST-MODIFIED:20260415T092327Z
UID:161-1779206400-1779384600@calendario.mediadoresdenavarra.com
SUMMARY:Nueva Píldora: La póliza de su vida
DESCRIPTION:La Escuela de Negocios de Seguros\, CECAS\, presenta una formación de alto impacto diseñada para profesionales que buscan liderar el ramo de Vida Riesgo. El objetivo central es evolucionar la venta tradicional hacia un modelo de Asesoramiento Consultivo\, incrementando la capacidad de influencia del mediador mediante el dominio técnico del entorno legal y una comprensión profunda de la psicología económica aplicada. \nA lo largo de tres sesiones estratégicas\, el alumno abandonará la oferta de productos genéricos para transformarse en un experto en planificación integral. Aprenderás a cuantificar el valor real de la protección y a diseñar soluciones que garanticen\, por encima de todo\, la tranquilidad financiera y el legado de tus clientes. \nCertificación:  4\,5 horas\nFecha:  19\, 20 y 21 de mayo de 2026\nHorario:  16:00 a 17:30\nPrecio colegiado:  199 €\nPrecio no colegiado:  299 €\nFormador: Óscar de la Mata
URL:https://calendario.mediadoresdenavarra.com/evento/nueva-pildora-la-poliza-de-su-vida/
LOCATION:online\, Spain
END:VEVENT
END:VCALENDAR